Package: RiboDiPA Version: 1.12.0 Command: /home/biocbuild/R/R-beta-2024-04-15_r86425/bin/R CMD build --keep-empty-dirs --no-resave-data RiboDiPA StartedAt: 2024-05-09 03:00:07 -0000 (Thu, 09 May 2024) EndedAt: 2024-05-09 03:08:37 -0000 (Thu, 09 May 2024) EllapsedTime: 509.6 seconds RetCode: 0 Status: OK PackageFile: RiboDiPA_1.12.0.tar.gz PackageFileSize: 1.608 MiB