Package: RiboDiPA Version: 1.12.0 Command: /Library/Frameworks/R.framework/Resources/bin/R CMD build --keep-empty-dirs --no-resave-data RiboDiPA StartedAt: 2024-06-10 03:27:11 -0400 (Mon, 10 Jun 2024) EndedAt: 2024-06-10 03:36:41 -0400 (Mon, 10 Jun 2024) EllapsedTime: 569.4 seconds RetCode: 0 Status: OK PackageFile: RiboDiPA_1.12.0.tar.gz PackageFileSize: 1.815 MiB