Package: RiboDiPA Version: 1.12.0 Command: /Library/Frameworks/R.framework/Resources/bin/R CMD INSTALL RiboDiPA StartedAt: 2024-10-16 17:01:34 -0400 (Wed, 16 Oct 2024) EndedAt: 2024-10-16 17:02:35 -0400 (Wed, 16 Oct 2024) EllapsedTime: 61.3 seconds RetCode: 0 Status: OK