Package: RiboDiPA Version: 1.12.0 Command: /Library/Frameworks/R.framework/Resources/bin/R CMD build --keep-empty-dirs --no-resave-data RiboDiPA StartedAt: 2024-10-17 07:36:28 -0400 (Thu, 17 Oct 2024) EndedAt: 2024-10-17 07:43:36 -0400 (Thu, 17 Oct 2024) EllapsedTime: 428.0 seconds RetCode: 0 Status: OK PackageFile: RiboDiPA_1.12.0.tar.gz PackageFileSize: 1.816 MiB