Package: RiboCrypt Version: 1.10.0 Command: /Library/Frameworks/R.framework/Resources/bin/R CMD check --install=check:RiboCrypt.install-out.txt --library=/Library/Frameworks/R.framework/Resources/library --no-vignettes --timings RiboCrypt_1.10.0.tar.gz StartedAt: 2024-10-18 09:34:09 -0400 (Fri, 18 Oct 2024) EndedAt: 2024-10-18 09:40:25 -0400 (Fri, 18 Oct 2024) EllapsedTime: 375.8 seconds RetCode: 0 Status: OK CheckDir: RiboCrypt.Rcheck Warnings: 0