Package: Rhtslib Version: 3.0.0 Command: set _R_INSTALL_TIME_PATCHES_=no&& E:\biocbuild\bbs-3.19-bioc\R\bin\R.exe CMD INSTALL Rhtslib StartedAt: 2024-10-16 16:04:22 -0400 (Wed, 16 Oct 2024) EndedAt: 2024-10-16 16:07:19 -0400 (Wed, 16 Oct 2024) EllapsedTime: 177.0 seconds RetCode: 0 Status: OK