Package: Rhtslib Version: 3.0.0 Command: set _R_INSTALL_TIME_PATCHES_=no&& chmod a+r Rhtslib -R && E:\biocbuild\bbs-3.19-bioc\R\bin\R.exe CMD build --keep-empty-dirs --no-resave-data Rhtslib StartedAt: 2024-10-16 21:30:50 -0400 (Wed, 16 Oct 2024) EndedAt: 2024-10-16 21:33:13 -0400 (Wed, 16 Oct 2024) EllapsedTime: 142.8 seconds RetCode: 0 Status: OK PackageFile: Rhtslib_3.0.0.tar.gz PackageFileSize: 4.907 MiB