Package: Rhtslib Version: 3.0.0 Command: set _R_INSTALL_TIME_PATCHES_=no&& chmod a+r Rhtslib -R && F:\biocbuild\bbs-3.19-bioc\R\bin\R.exe CMD build --keep-empty-dirs --no-resave-data Rhtslib StartedAt: 2024-06-26 21:23:55 -0400 (Wed, 26 Jun 2024) EndedAt: 2024-06-26 21:25:47 -0400 (Wed, 26 Jun 2024) EllapsedTime: 112.3 seconds RetCode: 0 Status: OK PackageFile: Rhtslib_3.0.0.tar.gz PackageFileSize: 4.907 MiB