Package: Rhtslib Version: 3.0.0 Command: /home/biocbuild/R/R-beta-2024-04-15_r86425/bin/R CMD build --keep-empty-dirs --no-resave-data Rhtslib StartedAt: 2024-05-09 03:00:01 -0000 (Thu, 09 May 2024) EndedAt: 2024-05-09 03:02:04 -0000 (Thu, 09 May 2024) EllapsedTime: 123.2 seconds RetCode: 0 Status: OK PackageFile: Rhtslib_3.0.0.tar.gz PackageFileSize: 4.934 MiB