Package: Rhtslib Version: 3.0.0 Command: /Library/Frameworks/R.framework/Resources/bin/R CMD check --install=check:Rhtslib.install-out.txt --library=/Library/Frameworks/R.framework/Resources/library --no-vignettes --timings Rhtslib_3.0.0.tar.gz StartedAt: 2024-06-11 03:07:05 -0400 (Tue, 11 Jun 2024) EndedAt: 2024-06-11 03:08:02 -0400 (Tue, 11 Jun 2024) EllapsedTime: 56.7 seconds RetCode: 0 Status: OK CheckDir: Rhtslib.Rcheck Warnings: 0