Package: Rhtslib Version: 3.0.0 Command: rm -rf Rhtslib.buildbin-libdir && mkdir Rhtslib.buildbin-libdir && /Users/biocbuild/BBS/utils/build-universal.sh Rhtslib_3.0.0.tar.gz /Library/Frameworks/R.framework/Resources/bin/R Rhtslib.buildbin-libdir StartedAt: 2024-06-11 12:49:31 -0400 (Tue, 11 Jun 2024) EndedAt: 2024-06-11 12:50:48 -0400 (Tue, 11 Jun 2024) EllapsedTime: 76.8 seconds RetCode: 0 Status: OK PackageFile: Rhtslib_3.0.0.tgz PackageFileSize: 3.21 MiB