Package: Rhtslib Version: 3.0.0 Command: /Library/Frameworks/R.framework/Resources/bin/R CMD INSTALL Rhtslib StartedAt: 2024-10-16 15:45:32 -0400 (Wed, 16 Oct 2024) EndedAt: 2024-10-16 15:46:08 -0400 (Wed, 16 Oct 2024) EllapsedTime: 36.4 seconds RetCode: 0 Status: OK