Package: Rhtslib Version: 3.0.0 Command: /Library/Frameworks/R.framework/Resources/bin/R CMD check --install=check:Rhtslib.install-out.txt --library=/Library/Frameworks/R.framework/Resources/library --no-vignettes --timings Rhtslib_3.0.0.tar.gz StartedAt: 2024-10-18 09:33:40 -0400 (Fri, 18 Oct 2024) EndedAt: 2024-10-18 09:34:09 -0400 (Fri, 18 Oct 2024) EllapsedTime: 29.3 seconds RetCode: 0 Status: OK CheckDir: Rhtslib.Rcheck Warnings: 0