Package: Rhtslib Version: 3.0.0 Command: /Library/Frameworks/R.framework/Resources/bin/R CMD build --keep-empty-dirs --no-resave-data Rhtslib StartedAt: 2024-10-17 07:35:35 -0400 (Thu, 17 Oct 2024) EndedAt: 2024-10-17 07:36:28 -0400 (Thu, 17 Oct 2024) EllapsedTime: 53.6 seconds RetCode: 0 Status: OK PackageFile: Rhtslib_3.0.0.tar.gz PackageFileSize: 4.91 MiB