Package: Rhtslib Version: 3.0.0 Command: rm -rf Rhtslib.buildbin-libdir && mkdir Rhtslib.buildbin-libdir && /Users/biocbuild/BBS/utils/build-universal.sh Rhtslib_3.0.0.tar.gz /Library/Frameworks/R.framework/Resources/bin/R Rhtslib.buildbin-libdir StartedAt: 2024-10-18 20:18:04 -0400 (Fri, 18 Oct 2024) EndedAt: 2024-10-18 20:18:54 -0400 (Fri, 18 Oct 2024) EllapsedTime: 50.4 seconds RetCode: 0 Status: OK PackageFile: Rhtslib_3.0.0.tgz PackageFileSize: 3.143 MiB