Package: Rhisat2 Version: 1.20.0 Command: rm -rf Rhisat2.buildbin-libdir && mkdir Rhisat2.buildbin-libdir && E:\biocbuild\bbs-3.19-bioc\R\bin\R.exe CMD INSTALL --build --library=Rhisat2.buildbin-libdir Rhisat2_1.20.0.tar.gz StartedAt: 2024-10-17 08:29:27 -0400 (Thu, 17 Oct 2024) EndedAt: 2024-10-17 08:34:49 -0400 (Thu, 17 Oct 2024) EllapsedTime: 322.2 seconds RetCode: 0 Status: OK PackageFile: Rhisat2_1.20.0.zip PackageFileSize: 18.34 MiB