Package: Rhisat2 Version: 1.20.0 Command: /Library/Frameworks/R.framework/Resources/bin/R CMD check --install=check:Rhisat2.install-out.txt --library=/Library/Frameworks/R.framework/Resources/library --no-vignettes --timings Rhisat2_1.20.0.tar.gz StartedAt: 2024-06-09 22:35:58 -0400 (Sun, 09 Jun 2024) EndedAt: 2024-06-09 22:40:53 -0400 (Sun, 09 Jun 2024) EllapsedTime: 295.4 seconds RetCode: 0 Status: WARNINGS CheckDir: Rhisat2.Rcheck Warnings: 1