Package: Rhisat2 Version: 1.20.0 Command: /Library/Frameworks/R.framework/Resources/bin/R CMD build --keep-empty-dirs --no-resave-data Rhisat2 StartedAt: 2024-06-09 17:54:53 -0400 (Sun, 09 Jun 2024) EndedAt: 2024-06-09 17:57:33 -0400 (Sun, 09 Jun 2024) EllapsedTime: 159.9 seconds RetCode: 0 Status: OK PackageFile: Rhisat2_1.20.0.tar.gz PackageFileSize: 6.745 MiB