Package: Rhisat2 Version: 1.20.0 Command: rm -rf Rhisat2.buildbin-libdir && mkdir Rhisat2.buildbin-libdir && /Users/biocbuild/BBS/utils/build-universal.sh Rhisat2_1.20.0.tar.gz /Library/Frameworks/R.framework/Resources/bin/R Rhisat2.buildbin-libdir StartedAt: 2024-06-10 00:35:28 -0400 (Mon, 10 Jun 2024) EndedAt: 2024-06-10 00:38:29 -0400 (Mon, 10 Jun 2024) EllapsedTime: 181.3 seconds RetCode: 0 Status: OK PackageFile: Rhisat2_1.20.0.tgz PackageFileSize: 1.2 MiB