Package: Rhisat2 Version: 1.20.0 Command: /home/biocbuild/R/R-beta-2024-04-15_r86425/bin/R CMD build --keep-empty-dirs --no-resave-data Rhisat2 StartedAt: 2024-05-09 02:59:45 -0000 (Thu, 09 May 2024) EndedAt: 2024-05-09 03:05:18 -0000 (Thu, 09 May 2024) EllapsedTime: 333.4 seconds RetCode: 0 Status: OK PackageFile: Rhisat2_1.20.0.tar.gz PackageFileSize: 6.773 MiB