Package: Rhisat2 Version: 1.20.0 Command: /Library/Frameworks/R.framework/Resources/bin/R CMD build --keep-empty-dirs --no-resave-data Rhisat2 StartedAt: 2024-06-10 03:26:07 -0400 (Mon, 10 Jun 2024) EndedAt: 2024-06-10 03:29:45 -0400 (Mon, 10 Jun 2024) EllapsedTime: 218.2 seconds RetCode: 0 Status: OK PackageFile: Rhisat2_1.20.0.tar.gz PackageFileSize: 6.745 MiB