Package: Rhisat2 Version: 1.20.0 Command: rm -rf Rhisat2.buildbin-libdir && mkdir Rhisat2.buildbin-libdir && /Users/biocbuild/BBS/utils/build-universal.sh Rhisat2_1.20.0.tar.gz /Library/Frameworks/R.framework/Resources/bin/R Rhisat2.buildbin-libdir StartedAt: 2024-06-11 12:49:31 -0400 (Tue, 11 Jun 2024) EndedAt: 2024-06-11 12:53:48 -0400 (Tue, 11 Jun 2024) EllapsedTime: 257.1 seconds RetCode: 0 Status: OK PackageFile: Rhisat2_1.20.0.tgz PackageFileSize: 1.09 MiB