Package: Rhisat2 Version: 1.20.0 Command: /Library/Frameworks/R.framework/Resources/bin/R CMD INSTALL Rhisat2 StartedAt: 2024-10-16 17:02:26 -0400 (Wed, 16 Oct 2024) EndedAt: 2024-10-16 17:04:56 -0400 (Wed, 16 Oct 2024) EllapsedTime: 150.3 seconds RetCode: 0 Status: OK