Package: Rhisat2 Version: 1.20.0 Command: /Library/Frameworks/R.framework/Resources/bin/R CMD check --install=check:Rhisat2.install-out.txt --library=/Library/Frameworks/R.framework/Resources/library --no-vignettes --timings Rhisat2_1.20.0.tar.gz StartedAt: 2024-10-18 09:32:14 -0400 (Fri, 18 Oct 2024) EndedAt: 2024-10-18 09:37:44 -0400 (Fri, 18 Oct 2024) EllapsedTime: 330.2 seconds RetCode: 0 Status: WARNINGS CheckDir: Rhisat2.Rcheck Warnings: 1