Package: Rhdf5lib Version: 1.26.0 Command: E:\biocbuild\bbs-3.19-bioc\R\bin\R.exe CMD INSTALL Rhdf5lib StartedAt: 2024-10-16 15:59:24 -0400 (Wed, 16 Oct 2024) EndedAt: 2024-10-16 16:00:16 -0400 (Wed, 16 Oct 2024) EllapsedTime: 51.6 seconds RetCode: 0 Status: OK