Package: Rhdf5lib Version: 1.26.0 Command: chmod a+r Rhdf5lib -R && E:\biocbuild\bbs-3.19-bioc\R\bin\R.exe CMD build --keep-empty-dirs --no-resave-data Rhdf5lib StartedAt: 2024-10-16 21:30:30 -0400 (Wed, 16 Oct 2024) EndedAt: 2024-10-16 21:31:23 -0400 (Wed, 16 Oct 2024) EllapsedTime: 52.7 seconds RetCode: 0 Status: OK PackageFile: Rhdf5lib_1.26.0.tar.gz PackageFileSize: 11.5 MiB