Package: Rhdf5lib Version: 1.26.0 Command: chmod a+r Rhdf5lib -R && F:\biocbuild\bbs-3.19-bioc\R\bin\R.exe CMD build --keep-empty-dirs --no-resave-data Rhdf5lib StartedAt: 2024-06-26 21:23:39 -0400 (Wed, 26 Jun 2024) EndedAt: 2024-06-26 21:24:13 -0400 (Wed, 26 Jun 2024) EllapsedTime: 33.9 seconds RetCode: 0 Status: OK PackageFile: Rhdf5lib_1.26.0.tar.gz PackageFileSize: 11.5 MiB