Package: Rhdf5lib Version: 1.26.0 Command: /Library/Frameworks/R.framework/Resources/bin/R CMD build --keep-empty-dirs --no-resave-data Rhdf5lib StartedAt: 2024-10-16 22:34:24 -0400 (Wed, 16 Oct 2024) EndedAt: 2024-10-16 22:45:19 -0400 (Wed, 16 Oct 2024) EllapsedTime: 654.5 seconds RetCode: 0 Status: OK PackageFile: Rhdf5lib_1.26.0.tar.gz PackageFileSize: 11.5 MiB