Package: Rhdf5lib Version: 1.26.0 Command: /Library/Frameworks/R.framework/Resources/bin/R CMD INSTALL Rhdf5lib StartedAt: 2024-06-09 15:02:41 -0400 (Sun, 09 Jun 2024) EndedAt: 2024-06-09 15:09:14 -0400 (Sun, 09 Jun 2024) EllapsedTime: 392.2 seconds RetCode: 0 Status: OK