Package: Rgraphviz Version: 2.48.0 Command: /home/biocbuild/bbs-3.19-bioc/R/bin/R CMD build --keep-empty-dirs --no-resave-data Rgraphviz StartedAt: 2024-10-16 20:25:19 -0400 (Wed, 16 Oct 2024) EndedAt: 2024-10-16 20:26:40 -0400 (Wed, 16 Oct 2024) EllapsedTime: 81.2 seconds RetCode: 0 Status: OK PackageFile: Rgraphviz_2.48.0.tar.gz PackageFileSize: 7.054 MiB