Package: Rgraphviz Version: 2.48.0 Command: rm -rf Rgraphviz.buildbin-libdir && mkdir Rgraphviz.buildbin-libdir && /Users/biocbuild/BBS/utils/build-universal.sh Rgraphviz_2.48.0.tar.gz /Library/Frameworks/R.framework/Resources/bin/R Rgraphviz.buildbin-libdir StartedAt: 2024-10-18 20:15:36 -0400 (Fri, 18 Oct 2024) EndedAt: 2024-10-18 20:20:08 -0400 (Fri, 18 Oct 2024) EllapsedTime: 272.6 seconds RetCode: 0 Status: OK PackageFile: Rgraphviz_2.48.0.tgz PackageFileSize: 1.678 MiB