Package: RgnTX Version: 1.6.0 Command: chmod a+r RgnTX -R && F:\biocbuild\bbs-3.19-bioc\R\bin\R.exe CMD build --keep-empty-dirs --no-resave-data RgnTX StartedAt: 2024-06-26 21:22:17 -0400 (Wed, 26 Jun 2024) EndedAt: 2024-06-26 21:24:41 -0400 (Wed, 26 Jun 2024) EllapsedTime: 143.6 seconds RetCode: 0 Status: OK PackageFile: RgnTX_1.6.0.tar.gz PackageFileSize: 3.697 MiB