Package: RgnTX Version: 1.6.0 Maintainer: Yue Wang MaintainerEmail: yue.wang19 at student.xjtlu.edu.cn git_url: https://git.bioconductor.org/packages/RgnTX git_branch: RELEASE_3_19 git_last_commit: b54e1c6 git_last_commit_date: 2024-04-30 11:43:01 -0400 (Tue, 30 Apr 2024)