Package: Rfastp Version: 1.14.0 Command: E:\biocbuild\bbs-3.19-bioc\R\bin\R.exe CMD check --no-multiarch --install=check:Rfastp.install-out.txt --library=E:\biocbuild\bbs-3.19-bioc\R\library --no-vignettes --timings Rfastp_1.14.0.tar.gz StartedAt: 2024-10-17 05:00:34 -0400 (Thu, 17 Oct 2024) EndedAt: 2024-10-17 05:01:41 -0400 (Thu, 17 Oct 2024) EllapsedTime: 66.9 seconds RetCode: 0 Status: OK CheckDir: Rfastp.Rcheck Warnings: 0