Package: Rfastp Version: 1.14.0 Command: chmod a+r Rfastp -R && E:\biocbuild\bbs-3.19-bioc\R\bin\R.exe CMD build --keep-empty-dirs --no-resave-data Rfastp StartedAt: 2024-10-16 21:29:13 -0400 (Wed, 16 Oct 2024) EndedAt: 2024-10-16 21:31:24 -0400 (Wed, 16 Oct 2024) EllapsedTime: 131.1 seconds RetCode: 0 Status: OK PackageFile: Rfastp_1.14.0.tar.gz PackageFileSize: 2.421 MiB