Package: Rfastp Version: 1.14.0 Command: rm -rf Rfastp.buildbin-libdir && mkdir Rfastp.buildbin-libdir && E:\biocbuild\bbs-3.19-bioc\R\bin\R.exe CMD INSTALL --build --library=Rfastp.buildbin-libdir Rfastp_1.14.0.tar.gz StartedAt: 2024-10-17 08:28:46 -0400 (Thu, 17 Oct 2024) EndedAt: 2024-10-17 08:30:32 -0400 (Thu, 17 Oct 2024) EllapsedTime: 106.9 seconds RetCode: 0 Status: OK PackageFile: Rfastp_1.14.0.zip PackageFileSize: 2.908 MiB