Package: Rfastp Version: 1.14.0 Command: /home/biocbuild/bbs-3.19-bioc/R/bin/R CMD INSTALL Rfastp StartedAt: 2024-10-16 15:54:18 -0400 (Wed, 16 Oct 2024) EndedAt: 2024-10-16 15:55:29 -0400 (Wed, 16 Oct 2024) EllapsedTime: 71.6 seconds RetCode: 0 Status: OK