Package: Rfastp Version: 1.14.0 Command: /home/biocbuild/bbs-3.19-bioc/R/bin/R CMD build --keep-empty-dirs --no-resave-data Rfastp StartedAt: 2024-10-16 20:24:57 -0400 (Wed, 16 Oct 2024) EndedAt: 2024-10-16 20:26:20 -0400 (Wed, 16 Oct 2024) EllapsedTime: 83.2 seconds RetCode: 0 Status: OK PackageFile: Rfastp_1.14.0.tar.gz PackageFileSize: 2.668 MiB