Package: Rfastp Version: 1.14.0 Command: /Library/Frameworks/R.framework/Resources/bin/R CMD check --install=check:Rfastp.install-out.txt --library=/Library/Frameworks/R.framework/Resources/library --no-vignettes --timings Rfastp_1.14.0.tar.gz StartedAt: 2024-10-17 11:48:38 -0400 (Thu, 17 Oct 2024) EndedAt: 2024-10-17 11:50:06 -0400 (Thu, 17 Oct 2024) EllapsedTime: 87.3 seconds RetCode: 0 Status: WARNINGS CheckDir: Rfastp.Rcheck Warnings: 1