Package: Rfastp Version: 1.14.0 Command: /home/biocbuild/R/R-beta-2024-04-15_r86425/bin/R CMD build --keep-empty-dirs --no-resave-data Rfastp StartedAt: 2024-05-09 02:58:19 -0000 (Thu, 09 May 2024) EndedAt: 2024-05-09 03:01:29 -0000 (Thu, 09 May 2024) EllapsedTime: 190.3 seconds RetCode: 0 Status: OK PackageFile: Rfastp_1.14.0.tar.gz PackageFileSize: 2.518 MiB