Package: Rfastp Version: 1.14.0 Command: /Library/Frameworks/R.framework/Resources/bin/R CMD check --install=check:Rfastp.install-out.txt --library=/Library/Frameworks/R.framework/Resources/library --no-vignettes --timings Rfastp_1.14.0.tar.gz StartedAt: 2024-10-18 09:25:11 -0400 (Fri, 18 Oct 2024) EndedAt: 2024-10-18 09:26:02 -0400 (Fri, 18 Oct 2024) EllapsedTime: 51.3 seconds RetCode: 0 Status: WARNINGS CheckDir: Rfastp.Rcheck Warnings: 1