Package: Rfastp Version: 1.14.0 Maintainer: Thomas Carroll MaintainerEmail: tc.infomatics at gmail.com git_url: https://git.bioconductor.org/packages/Rfastp git_branch: RELEASE_3_19 git_last_commit: 59fabd5 git_last_commit_date: 2024-04-30 11:26:27 -0400 (Tue, 30 Apr 2024)