Package: ResidualMatrix Version: 1.14.1 Command: chmod a+r ResidualMatrix -R && E:\biocbuild\bbs-3.19-bioc\R\bin\R.exe CMD build --keep-empty-dirs --no-resave-data ResidualMatrix StartedAt: 2024-10-16 21:28:20 -0400 (Wed, 16 Oct 2024) EndedAt: 2024-10-16 21:29:21 -0400 (Wed, 16 Oct 2024) EllapsedTime: 60.7 seconds RetCode: 0 Status: OK PackageFile: ResidualMatrix_1.14.1.tar.gz PackageFileSize: 324.2 KiB