Package: ResidualMatrix Version: 1.14.1 Command: rm -rf ResidualMatrix.buildbin-libdir && mkdir ResidualMatrix.buildbin-libdir && E:\biocbuild\bbs-3.19-bioc\R\bin\R.exe CMD INSTALL --build --library=ResidualMatrix.buildbin-libdir ResidualMatrix_1.14.1.tar.gz StartedAt: 2024-10-17 08:28:20 -0400 (Thu, 17 Oct 2024) EndedAt: 2024-10-17 08:28:47 -0400 (Thu, 17 Oct 2024) EllapsedTime: 27.4 seconds RetCode: 0 Status: OK PackageFile: ResidualMatrix_1.14.1.zip PackageFileSize: 620.9 KiB