Package: ResidualMatrix Version: 1.14.1 Command: F:\biocbuild\bbs-3.19-bioc\R\bin\R.exe CMD INSTALL ResidualMatrix StartedAt: 2024-06-26 15:48:01 -0400 (Wed, 26 Jun 2024) EndedAt: 2024-06-26 15:48:34 -0400 (Wed, 26 Jun 2024) EllapsedTime: 32.9 seconds RetCode: 0 Status: OK