Package: ResidualMatrix Version: 1.14.1 Command: chmod a+r ResidualMatrix -R && F:\biocbuild\bbs-3.19-bioc\R\bin\R.exe CMD build --keep-empty-dirs --no-resave-data ResidualMatrix StartedAt: 2024-06-26 21:21:06 -0400 (Wed, 26 Jun 2024) EndedAt: 2024-06-26 21:22:07 -0400 (Wed, 26 Jun 2024) EllapsedTime: 60.9 seconds RetCode: 0 Status: OK PackageFile: ResidualMatrix_1.14.1.tar.gz PackageFileSize: 324.2 KiB