Package: ResidualMatrix Version: 1.14.1 Command: rm -rf ResidualMatrix.buildbin-libdir && mkdir ResidualMatrix.buildbin-libdir && F:\biocbuild\bbs-3.19-bioc\R\bin\R.exe CMD INSTALL --build --library=ResidualMatrix.buildbin-libdir ResidualMatrix_1.14.1.tar.gz StartedAt: 2024-06-27 08:46:23 -0400 (Thu, 27 Jun 2024) EndedAt: 2024-06-27 08:46:53 -0400 (Thu, 27 Jun 2024) EllapsedTime: 29.6 seconds RetCode: 0 Status: OK PackageFile: ResidualMatrix_1.14.1.zip PackageFileSize: 620.7 KiB