Package: ResidualMatrix Version: 1.14.0 Command: /Library/Frameworks/R.framework/Resources/bin/R CMD build --keep-empty-dirs --no-resave-data ResidualMatrix StartedAt: 2024-06-10 03:20:23 -0400 (Mon, 10 Jun 2024) EndedAt: 2024-06-10 03:23:18 -0400 (Mon, 10 Jun 2024) EllapsedTime: 174.4 seconds RetCode: 0 Status: OK PackageFile: ResidualMatrix_1.14.0.tar.gz PackageFileSize: 334.4 KiB