Package: ResidualMatrix Version: 1.14.1 Command: /Library/Frameworks/R.framework/Resources/bin/R CMD INSTALL ResidualMatrix StartedAt: 2024-10-16 15:48:20 -0400 (Wed, 16 Oct 2024) EndedAt: 2024-10-16 15:48:41 -0400 (Wed, 16 Oct 2024) EllapsedTime: 21.1 seconds RetCode: 0 Status: OK