Package: ResidualMatrix Version: 1.14.1 Command: /Library/Frameworks/R.framework/Resources/bin/R CMD check --install=check:ResidualMatrix.install-out.txt --library=/Library/Frameworks/R.framework/Resources/library --no-vignettes --timings ResidualMatrix_1.14.1.tar.gz StartedAt: 2024-10-18 09:21:37 -0400 (Fri, 18 Oct 2024) EndedAt: 2024-10-18 09:25:24 -0400 (Fri, 18 Oct 2024) EllapsedTime: 226.6 seconds RetCode: 0 Status: OK CheckDir: ResidualMatrix.Rcheck Warnings: 0